BEGIN:VCALENDAR
VERSION:2.0
PRODID:-//Conservatoire Musique et Danse d&#039;Aurillac - ECPv6.15.20//NONSGML v1.0//EN
CALSCALE:GREGORIAN
METHOD:PUBLISH
X-WR-CALNAME:Conservatoire Musique et Danse d&#039;Aurillac
X-ORIGINAL-URL:https://conservatoire.aurillac.fr
X-WR-CALDESC:Évènements pour Conservatoire Musique et Danse d&#039;Aurillac
REFRESH-INTERVAL;VALUE=DURATION:PT1H
X-Robots-Tag:noindex
X-PUBLISHED-TTL:PT1H
BEGIN:VTIMEZONE
TZID:Europe/Paris
BEGIN:DAYLIGHT
TZOFFSETFROM:+0100
TZOFFSETTO:+0200
TZNAME:CEST
DTSTART:20250330T010000
END:DAYLIGHT
BEGIN:STANDARD
TZOFFSETFROM:+0200
TZOFFSETTO:+0100
TZNAME:CET
DTSTART:20251026T010000
END:STANDARD
BEGIN:DAYLIGHT
TZOFFSETFROM:+0100
TZOFFSETTO:+0200
TZNAME:CEST
DTSTART:20260329T010000
END:DAYLIGHT
BEGIN:STANDARD
TZOFFSETFROM:+0200
TZOFFSETTO:+0100
TZNAME:CET
DTSTART:20261025T010000
END:STANDARD
BEGIN:DAYLIGHT
TZOFFSETFROM:+0100
TZOFFSETTO:+0200
TZNAME:CEST
DTSTART:20270328T010000
END:DAYLIGHT
BEGIN:STANDARD
TZOFFSETFROM:+0200
TZOFFSETTO:+0100
TZNAME:CET
DTSTART:20271031T010000
END:STANDARD
END:VTIMEZONE
BEGIN:VEVENT
DTSTART;TZID=Europe/Paris:20260123T203000
DTEND;TZID=Europe/Paris:20260123T220000
DTSTAMP:20260424T201524
CREATED:20260108T151226Z
LAST-MODIFIED:20260113T143406Z
UID:4172-1769200200-1769205600@conservatoire.aurillac.fr
SUMMARY:Récital Piano Violon
DESCRIPTION:« Venez partager un moment musical haut en couleurs lors de notre récital piano-violon\, mêlant concertos\, solos et musique de chambre.\nDe Rachmaninov à Beethoven\, de Mozart à Saint-Saëns\, en passant par Franck\, Crumb et Somei Satoh\, le programme voyage entre lyrisme\, contrastes et émotions.\nVendredi 23 janvier à 20h30\, nous serons ravis de vous y accueillir. »\n\nOlga Bondarenko (piano) et Julien Ramond (violon).\n\n\n\n\n\n\nEntrée libre et gratuite dans la limite des places disponibles\n\n\n\n\n\n\nConservatoire Musique et Danse\nAuditorium CPMF\n37\, rue des Carmes\n15000 Aurillac
URL:https://conservatoire.aurillac.fr/agenda/recital-piano-violon/
LOCATION:Conservatoire – Auditorium Maurice Ravel\, 37\, rue des carmes\, Aurillac\, 15000
CATEGORIES:agenda pédagogique,Saison Musicale et chorégraphique
ATTACH;FMTTYPE=image/jpeg:https://conservatoire.aurillac.fr/wp-content/uploads/2026/01/Recital-Olga-Julien-23-Janvier-2026-e1768314974469.jpg
ORGANIZER;CN="Conservatoire":MAILTO:conservatoire@aurillac.fr
END:VEVENT
END:VCALENDAR