BEGIN:VCALENDAR
VERSION:2.0
PRODID:-//Conservatoire Musique et Danse d&#039;Aurillac - ECPv6.15.20//NONSGML v1.0//EN
CALSCALE:GREGORIAN
METHOD:PUBLISH
X-ORIGINAL-URL:https://conservatoire.aurillac.fr
X-WR-CALDESC:Évènements pour Conservatoire Musique et Danse d&#039;Aurillac
REFRESH-INTERVAL;VALUE=DURATION:PT1H
X-Robots-Tag:noindex
X-PUBLISHED-TTL:PT1H
BEGIN:VTIMEZONE
TZID:Europe/Paris
BEGIN:DAYLIGHT
TZOFFSETFROM:+0100
TZOFFSETTO:+0200
TZNAME:CEST
DTSTART:20240331T010000
END:DAYLIGHT
BEGIN:STANDARD
TZOFFSETFROM:+0200
TZOFFSETTO:+0100
TZNAME:CET
DTSTART:20241027T010000
END:STANDARD
BEGIN:DAYLIGHT
TZOFFSETFROM:+0100
TZOFFSETTO:+0200
TZNAME:CEST
DTSTART:20250330T010000
END:DAYLIGHT
BEGIN:STANDARD
TZOFFSETFROM:+0200
TZOFFSETTO:+0100
TZNAME:CET
DTSTART:20251026T010000
END:STANDARD
BEGIN:DAYLIGHT
TZOFFSETFROM:+0100
TZOFFSETTO:+0200
TZNAME:CEST
DTSTART:20260329T010000
END:DAYLIGHT
BEGIN:STANDARD
TZOFFSETFROM:+0200
TZOFFSETTO:+0100
TZNAME:CET
DTSTART:20261025T010000
END:STANDARD
END:VTIMEZONE
BEGIN:VEVENT
DTSTART;VALUE=DATE:20250910
DTEND;VALUE=DATE:20250911
DTSTAMP:20260425T132410
CREATED:20250703T070321Z
LAST-MODIFIED:20250901T065015Z
UID:3873-1757462400-1757548799@conservatoire.aurillac.fr
SUMMARY:Affichage des listes des classes 2025-2026
DESCRIPTION:Les listes des classes seront affichées au conservatoire ce mercredi 10 septembre \nDe plus\, les professeurs seront disponibles pour des rencontres entre 13h et 19h.
URL:https://conservatoire.aurillac.fr/agenda/affichage-des-listes-des-classes-2025-2026/
LOCATION:Conservatoire – Auditorium Maurice Ravel\, 37\, rue des carmes\, Aurillac\, 15000
CATEGORIES:Saison Musicale et chorégraphique
ATTACH;FMTTYPE=image/jpeg:https://conservatoire.aurillac.fr/wp-content/uploads/2023/06/motif-cmda-2023.jpg
ORGANIZER;CN="Conservatoire":MAILTO:conservatoire@aurillac.fr
END:VEVENT
END:VCALENDAR