BEGIN:VCALENDAR
VERSION:2.0
PRODID:-//Conservatoire Musique et Danse d&#039;Aurillac - ECPv6.15.20//NONSGML v1.0//EN
CALSCALE:GREGORIAN
METHOD:PUBLISH
X-ORIGINAL-URL:https://conservatoire.aurillac.fr
X-WR-CALDESC:Évènements pour Conservatoire Musique et Danse d&#039;Aurillac
REFRESH-INTERVAL;VALUE=DURATION:PT1H
X-Robots-Tag:noindex
X-PUBLISHED-TTL:PT1H
BEGIN:VTIMEZONE
TZID:Europe/Paris
BEGIN:DAYLIGHT
TZOFFSETFROM:+0100
TZOFFSETTO:+0200
TZNAME:CEST
DTSTART:20250330T010000
END:DAYLIGHT
BEGIN:STANDARD
TZOFFSETFROM:+0200
TZOFFSETTO:+0100
TZNAME:CET
DTSTART:20251026T010000
END:STANDARD
BEGIN:DAYLIGHT
TZOFFSETFROM:+0100
TZOFFSETTO:+0200
TZNAME:CEST
DTSTART:20260329T010000
END:DAYLIGHT
BEGIN:STANDARD
TZOFFSETFROM:+0200
TZOFFSETTO:+0100
TZNAME:CET
DTSTART:20261025T010000
END:STANDARD
BEGIN:DAYLIGHT
TZOFFSETFROM:+0100
TZOFFSETTO:+0200
TZNAME:CEST
DTSTART:20270328T010000
END:DAYLIGHT
BEGIN:STANDARD
TZOFFSETFROM:+0200
TZOFFSETTO:+0100
TZNAME:CET
DTSTART:20271031T010000
END:STANDARD
END:VTIMEZONE
BEGIN:VEVENT
DTSTART;TZID=Europe/Paris:20260225T203000
DTEND;TZID=Europe/Paris:20260225T220000
DTSTAMP:20260425T034437
CREATED:20260130T084236Z
LAST-MODIFIED:20260213T144316Z
UID:4202-1772051400-1772056800@conservatoire.aurillac.fr
SUMMARY:Musique de l'Inde
DESCRIPTION:Laissez-vous transporter en Inde lors d’un voyage musical présenté par Nicolas Delaigue au Sitar et au Surbahar\, deux luths traditionnels. Il vous invite\, le temps d’un concert\, à un moment unique\, riche en émotions\, couleurs et sensations. \nIl interprétera des mélodies traditionnelles appelées Ragas (lit. « ce qui colore l’âme »)\, mélodies issues de la musique populaire\, folklorique et dévotionnelle. \nAprès un parcours atypique et des années de pratique de cet art\, Nicolas Delaigue est devenu une référence dans l’interprétation et l’enseignement des musiques de l’Inde en Europe. \n			\n				Réservations pour le concert du 25 février
URL:https://conservatoire.aurillac.fr/agenda/musique-de-linde/
LOCATION:Conservatoire – Auditorium Maurice Ravel\, 37\, rue des carmes\, Aurillac\, 15000
CATEGORIES:Saison Musicale et chorégraphique
ATTACH;FMTTYPE=image/jpeg:https://conservatoire.aurillac.fr/wp-content/uploads/2026/01/Visuel-1-Musique-de-lInde.jpg
ORGANIZER;CN="Conservatoire":MAILTO:conservatoire@aurillac.fr
END:VEVENT
END:VCALENDAR