BEGIN:VCALENDAR
VERSION:2.0
PRODID:-//Conservatoire Musique et Danse d&#039;Aurillac - ECPv6.15.20//NONSGML v1.0//EN
CALSCALE:GREGORIAN
METHOD:PUBLISH
X-ORIGINAL-URL:https://conservatoire.aurillac.fr
X-WR-CALDESC:Évènements pour Conservatoire Musique et Danse d&#039;Aurillac
REFRESH-INTERVAL;VALUE=DURATION:PT1H
X-Robots-Tag:noindex
X-PUBLISHED-TTL:PT1H
BEGIN:VTIMEZONE
TZID:Europe/Paris
BEGIN:DAYLIGHT
TZOFFSETFROM:+0100
TZOFFSETTO:+0200
TZNAME:CEST
DTSTART:20250330T010000
END:DAYLIGHT
BEGIN:STANDARD
TZOFFSETFROM:+0200
TZOFFSETTO:+0100
TZNAME:CET
DTSTART:20251026T010000
END:STANDARD
BEGIN:DAYLIGHT
TZOFFSETFROM:+0100
TZOFFSETTO:+0200
TZNAME:CEST
DTSTART:20260329T010000
END:DAYLIGHT
BEGIN:STANDARD
TZOFFSETFROM:+0200
TZOFFSETTO:+0100
TZNAME:CET
DTSTART:20261025T010000
END:STANDARD
BEGIN:DAYLIGHT
TZOFFSETFROM:+0100
TZOFFSETTO:+0200
TZNAME:CEST
DTSTART:20270328T010000
END:DAYLIGHT
BEGIN:STANDARD
TZOFFSETFROM:+0200
TZOFFSETTO:+0100
TZNAME:CET
DTSTART:20271031T010000
END:STANDARD
END:VTIMEZONE
BEGIN:VEVENT
DTSTART;TZID=Europe/Paris:20260301T110000
DTEND;TZID=Europe/Paris:20260301T123000
DTSTAMP:20260425T015319
CREATED:20260130T085357Z
LAST-MODIFIED:20260204T101550Z
UID:4206-1772362800-1772368200@conservatoire.aurillac.fr
SUMMARY:Circuit Court
DESCRIPTION:Un octet made in Cantal \nÉlodie Frieh (flûte)\, Nathalie Course (clarinette)\, Mélissa Clément (tuba)\, Christine Thibault (saxophone)\, Camille Jarrety (trompette)\, Tupac Silva (saxophone)\,  \nPhilippe Chadel (trombone)\, Rémi Tridot (percussions)   \nEnsemble né en 2024 lors de la création d’une œuvre contemporaine dans les montagnes cantaliennes à plus de 1400m d’altitude… Musiciennes et musiciens mêlent leurs diversités de pratiques\, de modes de jeux\, de styles pour offrir une musique éclairée\, festive\, conviviale et incarnée. Ce qui les réunit c’est la jouissance de « faire ensemble »\, de lier la musique à l’humain\, au territoire\, au(x) projet(s)… \nL’octet joue des arrangements et des compositions éclectiques « made by eux-mêmes »\, aux influences multiples : musiques traditionnelles\, du monde\, jazz\, latino\, funk\, avec une approche classique et rock en même temps. Des sonorités espiègles qui vous donneront le sourire. Bref\, une musique dense et légère\, profonde et accessible… \nRéservations possibles ici  \n			\n				Réservations pour le concert du 1er mars
URL:https://conservatoire.aurillac.fr/agenda/4206/
LOCATION:Conservatoire – Auditorium Maurice Ravel\, 37\, rue des carmes\, Aurillac\, 15000
CATEGORIES:Saison Musicale et chorégraphique
ATTACH;FMTTYPE=image/jpeg:https://conservatoire.aurillac.fr/wp-content/uploads/2026/01/Visuel-2-Circuit-Court.jpeg
ORGANIZER;CN="Conservatoire":MAILTO:conservatoire@aurillac.fr
END:VEVENT
BEGIN:VEVENT
DTSTART;TZID=Europe/Paris:20260306T190000
DTEND;TZID=Europe/Paris:20260306T203000
DTSTAMP:20260425T015319
CREATED:20260130T090355Z
LAST-MODIFIED:20260130T090355Z
UID:4213-1772823600-1772829000@conservatoire.aurillac.fr
SUMMARY:Concert des Professeurs
DESCRIPTION:Pour la 5ème année\, un concert annuel rassemble les professeurs du conservatoire en tant qu’artistes. Ils vous proposent un programme alliant qualité et variété\, tout en restant accessible à tous. \nNous invitons particulièrement  les élèves du conservatoire\, à venir assister au spectacle préparé à leur intention. Il peut être une vraie possibilité d’apprentissage et de découverte. \nParticipation libre au profit de \n l’Association des Parents d’Élèves du Conservatoire d’Aurillac
URL:https://conservatoire.aurillac.fr/agenda/concert-des-professeurs/
LOCATION:Conservatoire – Auditorium Maurice Ravel\, 37\, rue des carmes\, Aurillac\, 15000
CATEGORIES:Saison Musicale et chorégraphique
ATTACH;FMTTYPE=image/jpeg:https://conservatoire.aurillac.fr/wp-content/uploads/2026/01/Visuel-3-Concert-profs-e1769763480811.jpg
ORGANIZER;CN="Conservatoire":MAILTO:conservatoire@aurillac.fr
END:VEVENT
BEGIN:VEVENT
DTSTART;TZID=Europe/Paris:20260328T203000
DTEND;TZID=Europe/Paris:20260328T220000
DTSTAMP:20260425T015319
CREATED:20260130T091321Z
LAST-MODIFIED:20260206T135224Z
UID:4218-1774729800-1774735200@conservatoire.aurillac.fr
SUMMARY:Concert Ukrainien
DESCRIPTION:Nous avons tous été touchés par les évènements d’Ukraine\, mais connaissons nous la culture de ce pays qui nous paraît aujourd’hui si proche ? Venez découvrir sa musique et ses chants le temps d’une soirée avec Irina et Pierre Zaripov. \nIrina et Pierre Zaripov \nElodie Frieh\, Julien Ramond\, Stéphanie Gentilhomme\, Bertrand Hulin\, Caroline Heslouis\, Jean-Marc Arnaud\, Camille Jarrety\, Anselme Boulet\, Olga Bondarenko\, \nJean-Yves Depecker\, Laetitia Broussier\, Christine Thibault\, Karine Cabal-Criscolo. \nRéservation possible ici  \n			\n				Réservations pour le concert du 28 mars
URL:https://conservatoire.aurillac.fr/agenda/concert-ukrainien/
LOCATION:Conservatoire – Auditorium Maurice Ravel\, 37\, rue des carmes\, Aurillac\, 15000
CATEGORIES:Saison Musicale et chorégraphique
ATTACH;FMTTYPE=image/jpeg:https://conservatoire.aurillac.fr/wp-content/uploads/2026/01/Visuel-3-Concert-ukrainien-e1769764163800.jpg
ORGANIZER;CN="Conservatoire":MAILTO:conservatoire@aurillac.fr
END:VEVENT
END:VCALENDAR