BEGIN:VCALENDAR
VERSION:2.0
PRODID:-//Conservatoire Musique et Danse d&#039;Aurillac - ECPv6.15.20//NONSGML v1.0//EN
CALSCALE:GREGORIAN
METHOD:PUBLISH
X-ORIGINAL-URL:https://conservatoire.aurillac.fr
X-WR-CALDESC:Évènements pour Conservatoire Musique et Danse d&#039;Aurillac
REFRESH-INTERVAL;VALUE=DURATION:PT1H
X-Robots-Tag:noindex
X-PUBLISHED-TTL:PT1H
BEGIN:VTIMEZONE
TZID:Europe/Paris
BEGIN:DAYLIGHT
TZOFFSETFROM:+0100
TZOFFSETTO:+0200
TZNAME:CEST
DTSTART:20250330T010000
END:DAYLIGHT
BEGIN:STANDARD
TZOFFSETFROM:+0200
TZOFFSETTO:+0100
TZNAME:CET
DTSTART:20251026T010000
END:STANDARD
BEGIN:DAYLIGHT
TZOFFSETFROM:+0100
TZOFFSETTO:+0200
TZNAME:CEST
DTSTART:20260329T010000
END:DAYLIGHT
BEGIN:STANDARD
TZOFFSETFROM:+0200
TZOFFSETTO:+0100
TZNAME:CET
DTSTART:20261025T010000
END:STANDARD
BEGIN:DAYLIGHT
TZOFFSETFROM:+0100
TZOFFSETTO:+0200
TZNAME:CEST
DTSTART:20270328T010000
END:DAYLIGHT
BEGIN:STANDARD
TZOFFSETFROM:+0200
TZOFFSETTO:+0100
TZNAME:CET
DTSTART:20271031T010000
END:STANDARD
END:VTIMEZONE
BEGIN:VEVENT
DTSTART;TZID=Europe/Paris:20260528T090000
DTEND;TZID=Europe/Paris:20260530T200000
DTSTAMP:20260425T015022
CREATED:20260202T100354Z
LAST-MODIFIED:20260220T143222Z
UID:4234-1779958800-1780171200@conservatoire.aurillac.fr
SUMMARY:Le Fuzz'tival - Festival des musiques amplifiées du conservatoire
DESCRIPTION:Pendant trois jours\, les élèves du Conservatoire d’Aurillac vous invitent à découvrir leur festival\, un rendez-vous dédié à la création\, à l’énergie et à la diversité des styles. Rock\, électro\, pop\, métal\, musiques expérimentales et du monde … les jeunes artistes explorent toutes les esthétiques et présentent sur scène leurs projets originaux\, fruit d’un travail collectif et passionné.\nUn festival ouvert\, vivant et créatif\, qui met en lumière la richesse des pratiques actuelles et la vitalité de la jeune scène des musiques amplifiées du Conservatoire. Un fuzz’tival où tout peut arriver\, où l’audace est reine et où chaque performance dévoile une nouvelle facette de leur talent : prêts à monter le volume ? \nDu 28 au 30 mai au Sismographe \nGRATUIT  \n			\n				Entrée au Fuzz'tival 28 mai\n			\n				Entrée au Fuzz'tival 29 mai\n			\n				Entrée au Fuzz'tival 30 mai
URL:https://conservatoire.aurillac.fr/agenda/4234/
LOCATION:Le Sismographe\, 11 rue Georges Clémenceau\, Aurillac\, 15000
CATEGORIES:Saison Musicale et chorégraphique
ATTACH;FMTTYPE=image/jpeg:https://conservatoire.aurillac.fr/wp-content/uploads/2026/02/fuzztival-26.jpg
ORGANIZER;CN="Conservatoire":MAILTO:conservatoire@aurillac.fr
END:VEVENT
END:VCALENDAR